BEGIN:VCALENDAR
VERSION:2.0
PRODID:-//AFS Ehemalige - ECPv6.15.20//NONSGML v1.0//EN
CALSCALE:GREGORIAN
METHOD:PUBLISH
X-WR-CALNAME:AFS Ehemalige
X-ORIGINAL-URL:https://afs-ehemalige.de
X-WR-CALDESC:Veranstaltungen für AFS Ehemalige
REFRESH-INTERVAL;VALUE=DURATION:PT1H
X-Robots-Tag:noindex
X-PUBLISHED-TTL:PT1H
BEGIN:VTIMEZONE
TZID:Europe/Berlin
BEGIN:DAYLIGHT
TZOFFSETFROM:+0100
TZOFFSETTO:+0200
TZNAME:CEST
DTSTART:20240331T010000
END:DAYLIGHT
BEGIN:STANDARD
TZOFFSETFROM:+0200
TZOFFSETTO:+0100
TZNAME:CET
DTSTART:20241027T010000
END:STANDARD
BEGIN:DAYLIGHT
TZOFFSETFROM:+0100
TZOFFSETTO:+0200
TZNAME:CEST
DTSTART:20250330T010000
END:DAYLIGHT
BEGIN:STANDARD
TZOFFSETFROM:+0200
TZOFFSETTO:+0100
TZNAME:CET
DTSTART:20251026T010000
END:STANDARD
BEGIN:DAYLIGHT
TZOFFSETFROM:+0100
TZOFFSETTO:+0200
TZNAME:CEST
DTSTART:20260329T010000
END:DAYLIGHT
BEGIN:STANDARD
TZOFFSETFROM:+0200
TZOFFSETTO:+0100
TZNAME:CET
DTSTART:20261025T010000
END:STANDARD
END:VTIMEZONE
BEGIN:VEVENT
DTSTART;TZID=Europe/Berlin:20250614T150000
DTEND;TZID=Europe/Berlin:20250614T220000
DTSTAMP:20260426T005246
CREATED:20240606T133639Z
LAST-MODIFIED:20250530T114242Z
UID:620-1749913200-1749938400@afs-ehemalige.de
SUMMARY:AFS Sommerfest
DESCRIPTION:Am 14.06.2025 findet auf dem Schulgelände das AFS Sommerfest statt. Auch wir sind dort mit einem Stand vertreten.
URL:https://afs-ehemalige.de/event/afs-sommerfest/
LOCATION:Anne-Frank-Schule\, Saligmannsweg 40\, 33330 Gütersloh
CATEGORIES:Schulfest
ATTACH;FMTTYPE=image/jpeg:https://afs-ehemalige.de/wp-content/uploads/2024/06/Sommerfest_AFS_2025_Plakat_Online-724x1024-1.jpg
END:VEVENT
END:VCALENDAR